Workbook

Sheet งบแสดงฐานะการเงิน
A1: องค์การบริหารส่วนตำบลท่าซอม
A2: งบแสดงฐานะการเงิน
A3: ณ วันที่ 30 กันยายน 2560
A5: สินทรัพย์
F6: หน่วย : บาท
E7: หมายเหตุ
A9: ทรัพย์สินตามงบทรัพย์สิน | E9: 2 | F9: =+งบทรัพย์สิน!B35 -> 22637816
A11: สินทรัพย์
B12: สินทรัพย์หมุนเวียน
C13: เงินสดและเงินฝากธนาคาร | E13: 3 | F13: 19521409
C14: รายได้จากรัฐบาลค้างรับ | E14: 4 | F14: 2260403.8
C15: ลูกหนี้ค่าภาษี | E15: 5 | F15: 44808.97
C16: ลูกหนี้เงินทุนโครงการเศรษฐกิจชุมชน | E16: 6 | F16: 520000
C17: รวมสินทรัพย์หมุนเวียน | F17: =SUM(F13:F16) -> 22346622
B19: สินทรัพย์ไม่หมุนเวียน
C20: รวมไม่สินทรัพย์หมุนเวียน | F20: =SUM(F19) -> 0
A22: รวมสินทรัพย์ | F22: =+F17+F20 -> 22346622
A35: =A1 -> องค์การบริหารส่วนตำบลท่าซอม
A36: งบแสดงฐานะการเงิน
A37: ณ วันที่ 30 กันยายน 2560
A39: หนี้สินและเงินสะสม
F40: หน่วย : บาท
E41: หมายเหตุ
A43: ทุนทรัพย์สิน | E43: 2 | F43: =+งบทรัพย์สิน!D35 -> 22637816
A45: หนี้สิน
B46: หนี้สินหมุนเวียน
C47: รายจ่ายค้างจ่าย | E47: 7 | F47: 2666849.2
C48: เงินรับฝาก | E48: 8 | F48: 1679183.4
C49: หนี้สินหมุนเวียนอื่น | F49: 0
C50: รวมหนี้สินหมุนเวียน | F50: =SUM(F47:F49) -> 4346032.6
B52: หนี้สินไม่หมุนเวียน
C53: รวมหนี้สินไม่หมุนเวียน | F53: =SUM(F52) -> 0
B54: รวมหนี้สิน | F54: =+F50+F53 -> 4346032.6
A56: เงินสะสม
C57: เงินสะสม | E57: 9 | F57: 7723031.4
C58: เงินทุนสำรองเงินสะสม | F58: 10277558
C59: รวมเงินสะสม | F59: =SUM(F57:F58) -> 18000590
A61: รวมหนี้สินและเงินสะสม | F61: =+F54+F59 -> 22346622 | G61: =+F22-F61 -> 0
A65: (ลงชื่อ).................................. (ลงชื่อ)..................................... (ลงชื่อ).......................................
A66: (นางเพ็ญศรี เอียดสังข์) (นายสุชาติ ชำนาญแทน) (นายธรรมนูญ ดีทองอ่อน)
A67: ผู้อำนวยการกองคลัง ปลัดองค์การบริหารส่วนตำบลท่าซอม นายกองค์การบริหารส่วนตำบลท่าซอม

Sheet งบทรัพย์สิน
A1: =งบแสดงฐานะการเงิน!A1 -> องค์การบริหารส่วนตำบลท่าซอม
A2: งบทรัพย์สิน
A3: ณ วันที่ 30 กันยายน 2560
A4: หมายเหตุ 2 งบทรัพย์สิน | D4: =งบแสดงฐานะการเงิน!F6 -> หน่วย : บาท
A5: ประเภททรัพย์สิน | B5: ราคาทรัพย์สิน | C5: แหล่งที่มาของทรัพย์สิน
C6: ชื่อ | D6: จำนวนเงิน
A7: ก. อสังหาริมทรัพย์
A8: ที่ดิน | B8: =125000+25500+124000 -> 274500 | C8: รายได้ | D8: =907550+3104303+18700+2890+20940+99600+134900+36800+11500+3700+59000+89000+48000+5800+54000+265000+166000+90000+17500+9800+85000-46000+431200-319990 -> 5295193
A9: อาคาร | B9: =10518150-348900+20940+99600+59000+48000+2544534.49+594552.56+158000+800000+1980000+54000+265000+166000+85000+91000 -> 17134877 | C9: เงินกู้ | D9: 0
A10: บ้านพัก | B10: 0 | C10: เงินอุทิศ | D10: 0
C11: เงินรับโอน | D11: 0
C12: เงินอุดหนุน | D12: =2549850+4309499.78+100000-348900+2544534.49+594552.56+158000+1980000 -> 11887537
C13: เงินสะสม | D13: =4655086+800000 -> 5455086
C14: เงินทุนสำรองเงินสะสม | D14: 0
A16: ข. สังหาริมทรัพย์
A17: ครุภัณฑ์สำนักงาน | B17: =1340260+18700+134900+89000+5800+90000+17500+9800+71900-800-37500-37500-18000-1600 -> 1682460
A18: ครุภัณฑ์การศึกษา | B18: 0
A19: ครุภัณฑ์ยานพาหนะและขนส่ง | B19: 1512000
A20: ครุภัณฑ์การเกษตร | B20: 0
A21: ครุภัณฑ์ก่อสร้าง | B21: 641320
A22: ครุภัณฑ์ไฟฟ้าและวิทยุ | B22: =361568.78-5000-8900-2800-2800 -> 342068.78
A23: ครุภัณฑ์โฆษณาและเผยแพร่ | B23: =53230+2890-15990 -> 40130
A24: ครุภัณฑ์วิทยาศาสตร์และการแพทย์ | B24: 87000
A25: ครุภัณฑ์งานบ้านงานครัว | B25: 17890
A26: ครุภัณฑ์โรงงาน | B26: 0
A27: ครุภัณฑ์ดับเพลิง | B27: 0
A28: ครุภัณฑ์กีฬา | B28: 0
A29: ครุภัณฑ์สำรวจ | B29: =61850-7000 -> 54850
A30: ครุภัณฑ์อาวุธ | B30: 0
A31: ครุภัณฑ์ดนตรีและนาฏศิลป์ | B31: =42900-42900 -> 0
A32: ครุภัณฑ์คอมพิวเตอร์ | B32: =517240+36800+11500+3700+20700+22000+16700+53000+3600+2800-13900-13900 -> 660240
A33: ครุภัณฑ์การโยธา | B33: 0
A34: ครุภัณฑ์อื่น ๆ | B34: =347880-3100-154300 -> 190480
A35: รวมที่ดิน อาคารสิ่งปลูกสร้างและครุภัณฑ์ | B35: =SUM(B8:B34) -> 22637816 | C35: รวมจำนวนเงินแหล่งที่มาของทรัพย์สิน | D35: =SUM(D8:D34) -> 22637816
F36: =+B35-D35 -> 0 | G36: ผลต่าง
F37: 22637816 | G37: ทะเบียนทรัพย์สิน (พัสดุ)
F38: =+B35 -> 22637816 | G38: บัญชี
F39: =+F37-F38 -> 0 | G39: ผลต่างกับทะเบียนทรัพย์สิน | I39: =+B31 -> 0
F40: 25500 | I40: =+I39+F39 -> 0
F41: 124000
F42: 91000
F43: 16600
F44: 27650
F45: 27650
F46: 20700
F47: 22000 | H47: =SUM(F40:F51) -> 431200 | I47: ระหว่างปี (พัสดุ)
F48: 16700 | H48: =190700+240500 -> 431200 | I48: บ/ช (ตามงบประมาณ)
F49: 53000 | H49: 0 | I49: บ/ช (เงินนอกงบประมาณ)
F50: 3600 | H50: =+H48+H49 -> 431200
F51: 2800 | H51: =+H47-H50 -> 0 | I51: ผลต่าง บ/ช และ พัสดุ
F52: =SUM(F40:F51) -> 431200
H53: 22526606 | I53: ยกมาปี 59
H54: =800+15990+13500+22000+7600+44500+44500+13900+13900+37500+37500+18000+5000+8900+2800+2800+1600+1500+1500+750+750+1500+700+700+700+700+7000+3500+1600+1600+1600+1600+1600+1900 -> 319990 | I54: ตัดจำหน่าย ปี2560
E55: 1 | F55: 800 | H55: =+H53-H54 -> 22206616 | I55: คงเหลือ
E56: 2 | F56: 15990 | H56: =+H48 -> 431200 | I56: ระหว่างปี เงินตาม
E57: 3 | F57: 13500 | H57: =+H55+H56 -> 22637816 | I57: คงเหลือ
E58: 4 | F58: 22000 | H58: =+H49 -> 0 | I58: ระหว่างปี เงินนอกงบประมาณ
E59: 5 | F59: 7600 | H59: =+H57+H58 -> 22637816 | I59: รวมพัสดุประจำปี 2560
E60: 6 | F60: 44500 | H60: =+B35 -> 22637816 | I60: งบพัสดุ
E61: 7 | F61: 44500 | H61: =+H59-H60 -> 0 | I61: ผลต่าง
E62: 8 | F62: 13900
E63: 9 | F63: 13900
E64: 10 | F64: 37500
E65: 11 | F65: 37500
E66: 12 | F66: 18000
E67: 13 | F67: 5000
E68: 14 | F68: 8900
E69: 15 | F69: 2800
E70: 16 | F70: 2800
E71: 17 | F71: 1600
E72: 18 | F72: 1500
E73: 19 | F73: 1500
... E82: 28 | F82: 3500
E83: 29 | F83: =1600+1900 -> 3500
E84: 30 | F84: 1600
E85: 31 | F85: 1600
E86: 32 | F86: 1600
E87: 33 | F87: 1600
F88: =SUM(F55:F87) -> 319990
E89: อื่น | F89: =+F57+F58+F59+F60+F61+F72+F73+F74+F75+F76+F77+F78+F79+F80+F82+F83+F84+F85+F86+F87 -> 154300

Sheet หมายเหตุ 3
A1: =+งบแสดงฐานะการเงิน!A1 -> องค์การบริหารส่วนตำบลท่าซอม
A2: หมายเหตุประกอบงบแสดงฐานะการเงิน
A3: สำหรับปี สิ้นสุดวันที่ 30 กันยายน 2560
A5: หมายเหตุ 3 เงินสดและเงินฝากธนาคาร
B7: เงินสด | F7: 0
B8: เงินฝากธนาคาร ธกส. สาขาหัวไทร ประเภทออมทรัพย์ เลขที่ 01715-2-42433-1 | F8: 7098865
B9: เงินฝากธนาคาร ธกส. สาขาหัวไทร ประเภทออมทรัพย์ เลขที่ 01715-2-46778-9 | F9: 481789.62
B10: เงินฝากธนาคารกรุงไทย สาขาหัวไทร ประเภทออมทรัพย์ เลขที่ 983-6-40475-9 | F10: 3768245
B11: เงินฝากธนาคารกรุงไทย สาขาหัวไทร ประเภทประจำ เลขที่ 984-2-51268-1 | F11: 8166193.9
B12: เงินฝากธนาคารกรุงไทย สาขาปากพนัง ประเภทกระแสรายวัน เลขที่ 802-6-01902-4 | F12: 6316
D13: รวม | F13: =SUM(F7:F12) -> 19521409

Sheet หมายเหตุ 4
A1: =+งบแสดงฐานะการเงิน!A1 -> องค์การบริหารส่วนตำบลท่าซอม
A2: หมายเหตุประกอบงบแสดงฐานะการเงิน
A3: =+'หมายเหตุ 3'!A3:G3 -> สำหรับปี สิ้นสุดวันที่ 30 กันยายน 2560
A5: หมายเหตุ 4 รายได้จากรัฐบาลค้างรับ
B7: เงินอุดหนุนทั่วไประบุวัตถุประสงค์
B8: - สนับสนุนการเสริมสร้างสวัสดิการทางสังคมให้แก่ผู้พิการ | F8: 13600
B9: เงินอุดหนุนเฉพาะกิจโครงการ Matching Fund
B10: - ก่อสร้างประปาหมู่บ้านแบบบาดาล หมู่ที่ 3 บ้านบางหนัง | F10: 1467060
B11: เงินรายรับ หมวดภาษีจัดสรร
B12: - ภาษีมูลค่าเพิ่มตาม พ.ร.บ. กำหนดแผนฯ | F12: 779743.77
D13: รวม | F13: =SUM(F8:F12) -> 2260403.8

Sheet หมายเหตุ 5
A1: =+งบแสดงฐานะการเงิน!A1 -> องค์การบริหารส่วนตำบลท่าซอม
A2: หมายเหตุประกอบงบแสดงฐานะการเงิน
A3: =+'หมายเหตุ 3'!A3:G3 -> สำหรับปี สิ้นสุดวันที่ 30 กันยายน 2560
A5: หมายเหตุ 5 ลูกหนี้ค่าภาษี
A7: ประเภทลูกหนี้ | B7: ประจำปี | C7: จำนวนราย | D7: จำนวนเงิน | E7: 0.89
A8: ลูกหนี้ภาษีบำรุงท้องที่ | B8: 2553 | C8: 49 | D8: 1706.6 | E8: =+H8 -> 1518.87 | G8: =+D8*E$7 -> 1518.874 | H8: 1518.87
B9: 2554 | C9: 67 | D9: 2468.2 | E9: =+H9 -> 2196.7 | G9: =+D9*E$7 -> 2196.698 | H9: 2196.7
B10: 2555 | C10: 91 | D10: 3288.1 | E10: =+H10 -> 2926.41 | G10: =+D10*E$7 -> 2926.409 | H10: 2926.41
B11: 2556 | C11: 145 | D11: 4860.6 | E11: =+H11 -> 4325.94 | G11: =+D11*E$7 -> 4325.934 | H11: 4325.94
B12: 2557 | C12: 181 | D12: 4645.5 | E12: =+J12 -> 4134.5 | H12: =SUM(H8:H11) -> 10967.92 | I12: =+D12*E$7 -> 4134.495 | J12: 4134.5
B13: 2558 | C13: 228 | D13: 6548.1 | E13: =+J13 -> 5827.81 | I13: =+D13*E$7 -> 5827.809 | J13: 5827.81
B14: 2559 | C14: 310 | D14: 9321.15 | E14: =+J14 -> 8295.82 | I14: =+D14*E$7 -> 8295.8235 | J14: 8295.82
B15: 2560 | C15: 517 | D15: 17508.9 | E15: =+J15 -> 15582.92 | I15: =+D15*E$7 -> 15582.921 | J15: 15582.92
J16: =SUM(J12:J15) -> 33841.05
G17: บัญชี | H17: รายละเอียด | I17: dif
G18: 44808.97 | H18: =+H12+J16 -> 44808.97 | I18: =+G18-H18 -> 0
A20: รวม | C20: =SUM(C8:C19) -> 1588 | D20: =SUM(D8:D19) -> 50347.15 | E20: =SUM(E8:E19) -> 44808.97
A21: รวมทั้งสิ้น | C21: =SUM(+C20) -> 1588 | D21: =SUM(+D20) -> 50347.15 | E21: =SUM(+E20) -> 44808.97

Sheet หมายเหตุ6ลน.เงินทุน
A1: =+งบแสดงฐานะการเงิน!A1 -> องค์การบริหารส่วนตำบลท่าซอม
A2: หมายเหตุประกอบงบแสดงฐานะการเงิน
A3: =+'หมายเหตุ 3'!A3:G3 -> สำหรับปี สิ้นสุดวันที่ 30 กันยายน 2560
A5: หมายเหตุ 6 ลูกหนี้เงินทุนโครงการเศรษฐกิจชุมชน
B7: กลุ่มกองทุนอาหารหมู่บ้าน หมู่ที่ 3 | F7: 80000
B8: กลุ่มเกษตรและปศุสัตว์ชุมชน หมู่ที่ 2 | F8: 100000
B9: กลุ่มรถไถเดินถามบ้านหัวแค หมู่ที่ 9 | F9: 40000
B10: กลุ่มสตรีร่วมใจพัฒนา ม. 4 ต.ท่าซอม | F10: 100000
B11: กลุ่มสัจจะสะสม | F11: 100000
B12: กลุ่มสัจจะออมทรัยพ์บ้านเสือหึง หมู่ที่ 1 | F12: 100000
D13: รวม | F13: =SUM(F7:F12) -> 520000

Sheet หมายเหตุ 7.1ท่า
A1: =+งบแสดงฐานะการเงิน!A1 -> องค์การบริหารส่วนตำบลท่าซอม
A2: หมายเหตุประกอบงบแสดงฐานะการเงิน
A3: =+'หมายเหตุ 3'!A3:G3 -> สำหรับปี สิ้นสุดวันที่ 30 กันยายน 2560
A5: หมายเหตุ 7.1 รายจ่ายค้างจ่าย (กรณีก่อหนี้ผูกพัน)
A7: แหล่งเงิน | B7: แผนงาน | C7: งาน | D7: หมวด | E7: ประเภท | F7: โครงการ | G7: จำนวนเงิน
A8: เงินงบประมาณ | B8: การพาณิชย์ | C8: กิจการประปา | D8: ค่าใช้สอย | E8: รายจ่ายให้ได้มาซึ่งบริการ | F8: จ้างเหมาจดเลขมาตรวัดน้ำประปา | G8: 6000
A9: เงินงบประมาณ | B9: การพาณิชย์ | C9: กิจการประปา | D9: ค่าใช้สอย | E9: รายจ่ายให้ได้มาซึ่งบริการ | F9: จ้างเหมาดูแลท่อเมนต์ประปาในตำบล | G9: 6000
A10: เงินงบประมาณ | B10: การพาณิชย์ | C10: กิจการประปา | D10: ค่าใช้สอย | E10: รายจ่ายให้ได้มาซึ่งบริการ | F10: จ้างเหมาควบคุมการผลิตน้ำประปา | G10: 6000
A11: เงินงบประมาณ | B11: การพาณิชย์ | C11: กิจการประปา | D11: ค่าใช้สอย | E11: รายจ่ายให้ได้มาซึ่งบริการ | F11: จ้างเหมาควบคุมการผลิตน้ำประปา | G11: 6000
A12: เงินงบประมาณ | B12: บริหารงานทั่วไป | C12: บริหารทั่วไป | D12: ค่าใช้สอย | E12: รายจ่ายให้ได้มาซึ่งบริการ | F12: จ้างเหมารักษาความปลอดภัย สนง. | G12: 6000
A13: เงินงบประมาณ | B13: บริหารงานทั่วไป | C13: บริหารทั่วไป | D13: ค่าใช้สอย | E13: รายจ่ายให้ได้มาซึ่งบริการ | F13: จ้างเหมาดูแลรักษาความสะอาด สนง. | G13: 6000
A14: เงินงบประมาณ | B14: สาธารณสุข | C14: บริหารทั่วไปเกี่ยว | D14: ค่าใช้สอย | E14: รายจ่ายเกี่ยวเนื่องกับการ | F14: จ้างเหมาบริการระบบการแพทย์ฉุกเฉิน | G14: 12600 | I14: =SUM(G8:G14) -> 48600
C15: กับสาธารณสุข | E15: ปฏิบัติราชการที่ไม่เข้าฯ
A16: เงินงบประมาณ | B16: บริหารงานทั่วไป | C16: บริหารทั่วไป | D16: ค่าวัสดุ | E16: วัสดุสำนักงาน | F16: ค่าหนังสือพิมพ์ | G16: 1200 | I16: =SUM(G16) -> 1200
A17: เงินงบประมาณ | B17: การศึกษา | C17: บริหารทั่วไปเกี่ยว | D17: ค่าวัสดุ | E17: ค่าอาหารเสริม (นม) | F17: ค่าอาหารเสริม(นม) สำหรับโรงเรียนสังกัด สพฐ. | G17: 238324.2
C18: กับการศึกษา
A19: เงินงบประมาณ | B19: การศึกษา | C19: บริหารทั่วไปเกี่ยว | D19: ค่าวัสดุ | E19: ค่าอาหารเสริม (นม) | F19: ค่าอาหารเสริม(นม) สำหรับ ศพด. | G19: 66945 | I19: =SUM(G17:G19) -> 305269.2
C20: กับการศึกษา
F21: ยอดยกไป
A22: รวม | G22: =SUM(G8:G21) -> 355069.2
F23: ยอดยกมา | G23: =+G22 -> 355069.2
A24: เงินงบประมาณ | B24: บริหารงานทั่วไป | C24: บริหารทั่วไป | D24: ค่าที่ดินและ | E24: อาคารต่างๆ | F24: ก่อสร้างรั้วที่ทำการ อบต.ท่าซอม | G24: 673000 | I24: =+G24 -> 673000
D25: สิ่งก่อสร้าง
A26: เงินงบประมาณ | B26: บริหารงานทั่วไป | C26: บริหารทั่วไป | D26: รายจ่ายอื่น | E26: รายจ่ายอื่น | F26: จ้างที่ปรึกษาโครการประเมินความพึงพอใจฯ | G26: 25000 | I26: =+G26 -> 25000
A27: เงินอุดหนุนระบุวัตถุประสงค์/ | B27: การพาณิชย์ | C27: กิจการประปา | D27: ค่าที่ดินและ | E27: ค่าก่อสร้างสิ่งสาธารณูปโภค | F27: ก่อสร้างประปาหมู่บ้านแบบบาดาล หมู่ที่ 3 | G27: 1467060 | I27: =+G27 -> 1467060
A28: เฉพาะกิจ | D28: สิ่งก่อสร้าง | F28: บ้านบางหนัง
I30: =+I26+I16+I24+I19+I14+I27 -> 2520129.2
A31: รวมทั้งสิ้น (กรณีก่อหนี้ผูกพัน) | G31: =SUM(G23:G30) -> 2520129.2

Sheet หมายเหตุ 7.2ท่า 
A1: =+งบแสดงฐานะการเงิน!A1 -> องค์การบริหารส่วนตำบลท่าซอม
A2: หมายเหตุประกอบงบแสดงฐานะการเงิน
A3: =+'หมายเหตุ 3'!A3:G3 -> สำหรับปี สิ้นสุดวันที่ 30 กันยายน 2560
A5: หมายเหตุ 7.2 รายจ่ายค้างจ่าย (กรณีไม่ก่อหนี้ผูกพัน/ยังไม่ดำเนินการ)
A7: แหล่งเงิน | B7: แผนงาน | C7: งาน | D7: หมวด | E7: ประเภท | F7: โครงการ | G7: จำนวนเงิน
A8: เงินอุดหนุนระบุวัตถุประสงค์/ | B8: การศึกษา | C8: ระดับก่อนวัยเรียน | D8: เงินเดือน | E8: ค่าตอบแทนพนักงานจ้าง | F8: รอคืนจังหวัด | G8: 100440
A9: เฉพาะกิจ | C9: และประถมศึกษา | D9: (ฝ่ายประจำ)
A10: เงินอุดหนุนระบุวัตถุประสงค์/ | C10: ระดับก่อนวัยเรียน | D10: เงินเดือน | E10: เงินเพิ่มต่างๆของพนักงาน | F10: รอคืนจังหวัด | G10: 28260
A11: เฉพาะกิจ | C11: และประถมศึกษา | D11: (ฝ่ายประจำ) | E11: จ้าง
A12: เงินอุดหนุนระบุวัตถุประสงค์/ | B12: งบกลาง | C12: งบกลาง | D12: งบกลาง | E12: เงินสมทบประกันสังคม | F12: รอคืนจังหวัด | G12: 6540
A13: เฉพาะกิจ
A14: เงินอุดหนุนระบุวัตถุประสงค์/ | B14: การศึกษา | C14: ระดับก่อนวัยเรียน | D14: ค่าตอบแทน | E14: เงินช่วยเหลือการศึกษาบุตร | F14: รอคืนจังหวัด | G14: 8580
A15: เฉพาะกิจ | C15: และประถมศึกษา
A16: เงินงบประมาณ | B16: เคหะและชุมชน | C16: ไฟฟ้าถนน | D16: ค่าที่ดินและ | E16: ค่าก่อสร้างสิ่งสาธารณูปโภค | F16: ปรับปรุงถนนสายคันคลองบางเสือ หมู่ที่ 6 | G16: 2000
D17: สิ่งก่อสร้าง | F17: (เหลือจ่ายยกมา)
F20: ยอดยกไป
A21: รวม | G21: =SUM(G8:G20) -> 145820
F23: ยอดยกมา | G23: =+G21 -> 145820
A24: เงินงบประมาณ | B24: เคหะและชุมชน | C24: ไฟฟ้าถนน | D24: ค่าที่ดินและ | E24: ค่าก่อสร้างสิ่งสาธารณูปโภค | F24: ปรับปรุงถนนสายเลียบคลองพัทธสีมา 2 | G24: 900
D25: สิ่งก่อสร้าง | F25: หมู่ที่ 9 (เหลือจ่ายยกมา)
I31: =SUM(G25:G31) -> 0
A33: รวมทั้งสิ้น (กรณีไม่ก่อหนี้ผูกพัน/ยังไม่ดำเนินการ) | G33: =SUM(G23:G32) -> 146720 | I33: =+G33+'หมายเหตุ 7.1ท่า'!G31 -> 2666849.2 | J33: รวมรายจ่ายค้างจ่าย
F34: รวมรายจ่ายค้างจ่าย | G34: =+G33+'หมายเหตุ 7.1ท่า'!G31 -> 2666849.2

Sheet หมายเหตุ 9ท่า
A1: =+งบแสดงฐานะการเงิน!A1 -> องค์การบริหารส่วนตำบลท่าซอม
A2: หมายเหตุประกอบงบแสดงฐานะการเงิน
A3: =+'หมายเหตุ 3'!A3:G3 -> สำหรับปี สิ้นสุดวันที่ 30 กันยายน 2560
A5: หมายเหตุ 9 เงินสะสม
B8: เงินสะสม 1 ตุลาคม 2559 (เงินสะสมต้นปี) | F8: 9237288.7
C10: รายรับจริงสูงกว่ารายจ่ายจริง | D10: 4991213.7
C11: หัก 25% ของรายรับจริงสูงกว่ารายจ่ายจริง (เงินทุนสำรองเงินสะสม) | D11: -1247803.4
B13: บวก | C13: รายรับจริงสูงกว่ารายจ่ายจริงหลังหักเงินทุนสำรองเงินสะสม | E13: =+D10+D11 -> 3743410.2
C14: รายจ่ายค้างจ่าย | E14: 254234.28
C15: ปรับปรุงระหว่างปี | E15: 0
C16: รับเพิ่มระหว่างปี | E16: =4028269.2-3743410.24-254234.28 -> 30624.68
B17: หัก | C17: จ่ายขาดเงินสะสม | E17: -5542032.5
C18: ปรับปรุงระหว่างปี | E18: -494.03
F19: =SUM(E13:E18) -> -1514257.3
B20: เงินสะสม ณ 30 กันยายน 2560 (เงินสะสมปลายปี) | F20: =+F8+F19 -> 7723031.4
B23: เงินสะสม ณ 30 กันยายน 2560 ประกอบด้วย
C24: 1. เงินฝาก ก.ส.ท. หรือ เงินฝาก ก.ส.อ. | F24: 0
C25: 2. ลูกหนี้ค่าภาษี | F25: 44808.97
C26: 3. หุ้นในโรงพิมพ์อาสารักษาดินแดน | F26: 0
C27: 4. ลูกหนี้รายได้อื่น ๆ | F27: 0
C28: 5. ทรัพย์สินที่เกิดจากเงินกู้ที่ชำระหนี้แล้ว (ผลต่างระหว่างทรัพย์สินเกิดจากเงินกู้และเจ้าหนี้เงินกู้) | F28: 0
C29: 6. เงินสะสมที่สามารถนำไปใช้ได้ | F29: =+F20-F24-F25-F26-F27-F28 -> 7678222.4
E30: รวม | F30: =F20 -> 7723031.4 | H30: =SUM(F24:F29) -> 7723031.4
A34: ทั้งนี้ในงบประมาณ พ.ศ. 2560 ได้รับอนุมัติให้จ่ายเงินสะสมที่อยู่ระหว่างดำเนินการจำนวน ........1,477,000.-..........บาท
A35: และจะเบิกจ่ายในปีงบประมาณต่อไป ตามรายละเอียดแนบท้ายหมายเหตุ 9

Sheet รายละเอียดแนบท้ายหมายเหตุ 9
A1: =+งบแสดงฐานะการเงิน!A1 -> องค์การบริหารส่วนตำบลท่าซอม
A2: หมายเหตุประกอบงบแสดงฐานะการเงิน
A3: =+'หมายเหตุ 3'!A3:G3 -> สำหรับปี สิ้นสุดวันที่ 30 กันยายน 2560
A5: รายละเอียดแนบท้ายหมายเหตุ 9 เงินสะสม
A7: หมวด | B7: ประเภท | C7: โครงการ | D7: จำนวนเงินที่ได้รับอนุมัติ | E7: ก่อหนี้ผูกพัน | F7: เบิกจ่ายแล้ว | G7: คงเหลือ | H7: ยังไม่ได้ก่อหนี้
A8: ที่ดินและสิ่งก่อสร้าง | B8: ค่าก่อสร้าง | C8: ก่อสร้างประปาหมู่บ้านแบบบาดาล | D8: 1477000 | E8: 1472940 | F8: 0 | G8: =+D8-F8 -> 1477000 | H8: =+D8-E8 -> 4060
B9: สิ่งสาธารณูปโภค | C9: หมู่ที่ 3 บ้านบางหนัง
A18: รวม | D18: =SUM(D8:D17) -> 1477000 | E18: =SUM(E8:E17) -> 1472940 | F18: =SUM(F8:F17) -> 0 | G18: =SUM(G8:G17) -> 1477000 | H18: =SUM(H8:H17) -> 4060

Sheet ตามแผนงาน 1
A1: =+งบแสดงฐานะการเงิน!A1 -> องค์การบริหารส่วนตำบลท่าซอม
A2: รายงานรายจ่ายในการดำเนินงานที่จ่ายจากเงินรายรับตามแผนงาน ..งบกลาง..
A3: ตั้งแต่วันที่ 1 ตุลาคม 2559 ถึงวันที่ 30 กันยายน 2560
A6: งบ | B6: หมวด | C6: แหล่งเงิน | D6: ประมาณการ | E6: งบกลาง | F6: รวม
A7: งบกลาง | B7: งบกลาง | C7: เงินงบประมาณ | D7: 6746613 | E7: =6252799-1000 -> 6251799 | F7: =+E7 -> 6251799
C8: เงินอุดหนุนระบุวัตถุประสงค์ / เฉพาะกิจ | D8: 0 | E8: 0 | F8: =+E8 -> 0
A17: รวม | D17: =SUM(D7:D16) -> 6746613 | E17: =SUM(E7:E16) -> 6251799 | F17: =SUM(F7:F16) -> 6251799

Sheet ตามแผนงาน 2
A1: =+งบแสดงฐานะการเงิน!A1 -> องค์การบริหารส่วนตำบลท่าซอม
A2: รายงานรายจ่ายในการดำเนินงานที่จ่ายจากเงินรายรับตามแผนงาน ...บริหารงานทั่วไป...
A3: =+'ตามแผนงาน 1'!A3:F3 -> ตั้งแต่วันที่ 1 ตุลาคม 2559 ถึงวันที่ 30 กันยายน 2560
A5: งบ | B5: หมวด | C5: แหล่งเงิน | D5: ประมาณการ | E5: งานบริหารทั่วไป | F5: งานวางแผนสถิติและวิชาการ | G5: งานบริหารงานคลัง | H5: รวม
A6: งบบุคลากร | B6: เงินเดือน(ฝ่ายการเมือง) | C6: เงินงบประมาณ | D6: 2398320 | E6: 2398320 | F6: 0 | G6: 0 | H6: =SUM(E6:G6) -> 2398320
B7: เงินเดือน(ฝ่ายประจำ) | C7: เงินงบประมาณ | D7: =1773000+84000+168000+227400+154000+24000+1518000 -> 3948400 | E7: 2350200 | F7: 0 | G7: 1482420 | H7: =SUM(E7:G7) -> 3832620
A8: งบดำเนินการ | B8: ค่าตอบแทน | C8: เงินงบประมาณ | D8: =391500+48000+124000+147000+48000+67000+43160+72000+39000 -> 979660 | E8: 272560 | F8: 0 | G8: 119340 | H8: =SUM(E8:G8) -> 391900
B9: ค่าใช้สอย | C9: เงินงบประมาณ | D9: =20000+338840+40000+262000+44000+478000+168000 -> 1350840 | E9: 575803.4 | F9: 0 | G9: 97380 | H9: =SUM(E9:G9) -> 673183.4
B10: ค่าวัสดุ | C10: เงินงบประมาณ | D10: =84800+7000+16000+19000+73000+19000+2000+115000+39000+39000 -> 413800 | E10: 239970.21 | F10: 0 | G10: 53437.05 | H10: =SUM(E10:G10) -> 293407.26
B11: ค่าสาธารณูปโภค | C11: เงินงบประมาณ | D11: =196000+4500+11800+118000 -> 330300 | E11: 254825.98 | F11: 0 | G11: 0 | H11: =SUM(E11:G11) -> 254825.98
A12: งบลงทุน | B12: ค่าครุภัณฑ์ | C12: เงินงบประมาณ | D12: =74500+66000 -> 140500 | E12: 71900 | F12: 0 | G12: 41000 | H12: =SUM(E12:G12) -> 112900
B13: ค่าที่ดินและสิ่งก่อสร้าง | D13: =675000+150000 -> 825000 | E13: 673000 | F13: 0 | G13: 0 | H13: =SUM(E13:G13) -> 673000
A14: งบรายจ่ายอื่น | B14: รายจ่ายอื่น | C14: เงินงบประมาณ | D14: 25000 | E14: 25000 | F14: 0 | G14: 0 | H14: =SUM(E14:G14) -> 25000
A15: งบเงินอุดหนุน | B15: เงินอุดหนุน | C15: เงินงบประมาณ | D15: 64400 | E15: 29325 | F15: 0 | G15: 0 | H15: =SUM(E15:G15) -> 29325
A16: รวม | D16: =SUM(D6:D15) -> 10476220 | E16: =SUM(E6:E15) -> 6890904.6 | F16: =SUM(F6:F15) -> 0 | G16: =SUM(G6:G15) -> 1793577.1 | H16: =SUM(H6:H15) -> 8684481.6

Sheet ตามแผนงาน 3
A1: =+งบแสดงฐานะการเงิน!A1 -> องค์การบริหารส่วนตำบลท่าซอม
A2: รายงานรายจ่ายในการดำเนินงานที่จ่ายจากเงินรายรับตามแผนงาน ...การรักษาความสงบภายใน...
A3: =+'ตามแผนงาน 1'!A3:F3 -> ตั้งแต่วันที่ 1 ตุลาคม 2559 ถึงวันที่ 30 กันยายน 2560
A5: งบ | B5: หมวด | C5: แหล่งเงิน | D5: ประมาณการ | E5: งานบริหารงานทั่วไปเกี่ยวกับการรักษาความสงบภายใน | F5: งานเทศกิจ | G5: งานป้องกันฝ่ายพลเรือนและระงับอัคคีภัย | H5: รวม
A6: งบบุคลากร | B6: เงินเดือน(ฝ่ายประจำ) | D6: 0 | E6: 0 | F6: 0 | G6: 0 | H6: =SUM(E6:G6) -> 0
A7: งบดำเนินการ | B7: ค่าตอบแทน | C7: เงินงบประมาณ | D7: 39000 | E7: 0 | F7: 0 | G7: 0 | H7: =SUM(E7:G7) -> 0
B8: ค่าใช้สอย | C8: เงินงบประมาณ | D8: 79000 | E8: 22920 | F8: 0 | G8: 0 | H8: =SUM(E8:G8) -> 22920
B9: ค่าวัสดุ | C9: เงินงบประมาณ | D9: 6000 | E9: 0 | F9: 0 | G9: 0 | H9: =SUM(E9:G9) -> 0
B10: ค่าสาธารณูปโภค | D10: 0 | E10: 0 | F10: 0 | G10: 0 | H10: =SUM(E10:G10) -> 0
A11: งบลงทุน | B11: ค่าครุภัณฑ์ | D11: 0 | E11: 0 | F11: 0 | G11: 0 | H11: =SUM(E11:G11) -> 0
B12: ค่าที่ดินและสิ่งก่อสร้าง | D12: 0 | E12: 0 | F12: 0 | G12: 0 | H12: =SUM(E12:G12) -> 0
A13: งบรายจ่ายอื่น | B13: รายจ่ายอื่น | D13: 0 | E13: 0 | F13: 0 | G13: 0 | H13: =SUM(E13:G13) -> 0
A14: งบเงินอุดหนุน | B14: เงินอุดหนุน | D14: 0 | E14: 0 | F14: 0 | G14: 0 | H14: =SUM(E14:G14) -> 0
A15: รวม | D15: =SUM(D6:D14) -> 124000 | E15: =SUM(E6:E14) -> 22920 | F15: =SUM(F6:F14) -> 0 | G15: =SUM(G6:G14) -> 0 | H15: =SUM(H6:H14) -> 22920

Sheet ตามแผนงาน 4
A1: =+งบแสดงฐานะการเงิน!A1 -> องค์การบริหารส่วนตำบลท่าซอม
A2: รายงานรายจ่ายในการดำเนินงานที่จ่ายจากเงินรายรับตามแผนงาน ...การศึกษา...
A3: =+'ตามแผนงาน 1'!A3:F3 -> ตั้งแต่วันที่ 1 ตุลาคม 2559 ถึงวันที่ 30 กันยายน 2560
A5: งบ | B5: หมวด | C5: แหล่งเงิน | D5: ประมาณการ | E5: งานบริหารงานทั่วไปเกี่ยวกับการศึกษา | F5: งานระดับก่อน วัยเรียนและ ประถมศึกษา | G5: งานระดับ มัธยมศึกษา | H5: งานศึกษาไม่ กำหนดระดับ | I5: รวม
A6: งบบุคลากร | B6: เงินเดือน(ฝ่ายประจำ) | C6: เงินงบประมาณ | D6: 2220800 | E6: 2082635.4 | F6: 0 | G6: 0 | H6: 0 | I6: =SUM(E6:H6) -> 2082635.4 | J6: ครู | K6: 965760
C7: เงินอุดหนุนระบุวัตถุประสงค์/ | D7: 0 | E7: 0 | F7: 0 | G7: 0 | H7: 0 | I7: =SUM(E7:H7) -> 0 | J7: พนง.จ้าง | K7: 480480
C8: เฉพาะกิจ | E8: 0 | F8: 0 | G8: 0 | H8: 0 | J8: เงินเพิ่ม | K8: 66720
A9: งบดำเนินการ | B9: ค่าตอบแทน | C9: เงินงบประมาณ | D9: =63000+32000+39000 -> 134000 | E9: 46950 | F9: 0 | G9: 0 | H9: 0 | I9: =SUM(E9:H9) -> 46950 | J9: พนง.จ้าง | K9: 22800
C10: เงินอุดหนุนระบุวัตถุประสงค์/ | D10: 0 | E10: 0 | F10: 0 | G10: 0 | H10: 0 | I10: =SUM(E10:H10) -> 0 | K10: =SUM(K6:K9) -> 1535760
C11: เฉพาะกิจ | E11: 0 | F11: 0 | G11: 0 | H11: 0 | I11: =SUM(E11:H11) -> 0
B12: ค่าใช้สอย | C12: เงินงบประมาณ | D12: =10000+841000+75500 -> 926500 | E12: 771058 | F12: 0 | G12: 0 | H12: 0 | I12: =SUM(E12:H12) -> 771058
B13: ค่าวัสดุ | C13: เงินงบประมาณ | D13: =12000+682167+10000 -> 704167 | E13: 628454 | F13: 0 | G13: 0 | I13: =SUM(E13:H13) -> 628454
C14: เงินอุดหนุนระบุวัตถุประสงค์/ | D14: 0 | E14: 0 | F14: 0 | G14: 0 | H14: 0 | I14: =SUM(E14:H14) -> 0
C15: เฉพาะกิจ | D15: 0 | E15: 0 | F15: 0 | G15: 0 | H15: 0 | I15: =SUM(E15:H15) -> 0
B16: ค่าสาธารณูปโภค | D16: 18000 | E16: 10877.06 | F16: 0 | G16: 0 | H16: 0 | I16: =SUM(E16:H16) -> 10877.06
A17: งบลงทุน | B17: ค่าครุภัณฑ์ | D17: 30000 | E17: 24800 | F17: 0 | G17: 0 | H17: 0 | I17: =SUM(E17:H17) -> 24800
B18: ค่าที่ดินและสิ่งก่อสร้าง | C18: เงินงบประมาณ | D18: =124500+150000 -> 274500 | E18: 215000 | F18: 0 | G18: 0 | H18: 0 | I18: =SUM(E18:H18) -> 215000
C19: เงินอุดหนุนระบุวัตถุประสงค์/ | D19: 0 | E19: 0 | F19: 0 | G19: 0 | H19: 0 | I19: =SUM(E19:H19) -> 0
C20: เฉพาะกิจ | D20: 0 | E20: 0 | F20: 0 | G20: 0 | H20: 0
A21: งบรายจ่ายอื่น | B21: รายจ่ายอื่น | D21: 0 | E21: 0 | F21: 0 | G21: 0 | H21: 0 | I21: =SUM(E21:H21) -> 0
A22: งบเงินอุดหนุน | B22: เงินอุดหนุน | C22: เงินงบประมาณ | D22: =1029000+58000 -> 1087000 | E22: 1018200 | F22: 55000 | G22: 0 | H22: 0 | I22: =SUM(E22:H22) -> 1073200
A23: รวม | D23: =SUM(D6:D22) -> 5394967 | E23: =SUM(E6:E22) -> 4797974.4 | F23: =SUM(F6:F22) -> 55000 | G23: =SUM(G6:G22) -> 0 | H23: =SUM(H6:H22) -> 0 | I23: =SUM(I6:I22) -> 4852974.4

Sheet ตามแผนงาน 5
A1: =+งบแสดงฐานะการเงิน!A1 -> องค์การบริหารส่วนตำบลท่าซอม
A2: รายงานรายจ่ายในการดำเนินงานที่จ่ายจากเงินรายรับตามแผนงาน ...สาธารณสุข...
A3: =+'ตามแผนงาน 1'!A3:F3 -> ตั้งแต่วันที่ 1 ตุลาคม 2559 ถึงวันที่ 30 กันยายน 2560
A5: งบ | B5: หมวด | C5: แหล่งเงิน | D5: ประมาณการ | E5: งานบริหารทั่วไป เกี่ยวกับสาธารณสุข | F5: งานโรงพยาบาล | G5: งานบริการ สาธารณสุขและ งานสาธารณสุขอื่น | H5: งานศูนย์บริการ สาธารณสุข | I5: รวม
A6: งบบุคลากร | B6: เงินเดือน(ฝ่ายประจำ) | C6: เงินงบประมาณ | D6: 120000 | E6: 120000 | F6: 0 | G6: 0 | H6: 0 | I6: =SUM(E6:H6) -> 120000
A7: งบดำเนินการ | B7: ค่าตอบแทน | D7: 0 | E7: 0 | F7: 0 | G7: 0 | H7: 0 | I7: =SUM(E7:H7) -> 0
B8: ค่าใช้สอย | C8: เงินงบประมาณ | D8: 275000 | E8: 213104.66 | F8: 0 | G8: 0 | H8: 0 | I8: =SUM(E8:H8) -> 213104.66
B9: ค่าวัสดุ | D9: 0 | E9: 0 | F9: 0 | G9: 0 | H9: 0 | I9: =SUM(E9:H9) -> 0
B10: ค่าสาธารณูปโภค | D10: 0 | E10: 0 | F10: 0 | G10: 0 | H10: 0 | I10: =SUM(E10:H10) -> 0
A11: งบลงทุน | B11: ค่าครุภัณฑ์ | D11: 0 | E11: 0 | F11: 0 | G11: 0 | H11: 0 | I11: =SUM(E11:H11) -> 0
B12: ค่าที่ดินและสิ่งก่อสร้าง | D12: 0 | E12: 0 | F12: 0 | G12: 0 | H12: 0 | I12: =SUM(E12:H12) -> 0
A13: งบรายจ่ายอื่น | B13: รายจ่ายอื่น | D13: 0 | E13: 0 | F13: 0 | G13: 0 | H13: 0 | I13: =SUM(E13:H13) -> 0
A14: งบเงินอุดหนุน | B14: เงินอุดหนุน | C14: เงินงบประมาณ | D14: 0 | E14: 0 | F14: 0 | G14: 0 | H14: 0 | I14: =SUM(E14:H14) -> 0
A15: รวม | D15: =SUM(D6:D14) -> 395000 | E15: =SUM(E6:E14) -> 333104.66 | F15: =SUM(F6:F14) -> 0 | G15: =SUM(G6:G14) -> 0 | H15: =SUM(H6:H14) -> 0 | I15: =SUM(I6:I14) -> 333104.66

Sheet ตามแผนงาน 6
A1: =+งบแสดงฐานะการเงิน!A1 -> องค์การบริหารส่วนตำบลท่าซอม
A2: รายงานรายจ่ายในการดำเนินงานที่จ่ายจากเงินรายรับตามแผนงาน ...เคหะและชุมชน...
A3: =+'ตามแผนงาน 1'!A3:F3 -> ตั้งแต่วันที่ 1 ตุลาคม 2559 ถึงวันที่ 30 กันยายน 2560
A5: งบ | B5: หมวด | C5: แหล่งเงิน | D5: ประมาณการ | E5: งานบริหาร ทั่วไปเกี่ยวกับ เคหะชุมชม | F5: งานไฟฟ้าถนน | G5: งาน สวนสาธารณะ | H5: งานกำจัดขยะ มูลฝอยและสิ่ง ปฏิกูล | I5: งานบำบัด น้ำเสีย | J5: รวม
A6: งบบุคลากร | B6: เงินเดือน(ฝ่ายประจำ) | C6: เงินงบประมาณ | D6: 624000 | E6: 619860 | F6: 0 | G6: 0 | H6: 0 | I6: 0 | J6: =SUM(E6:I6) -> 619860
A7: งบดำเนินการ | B7: ค่าตอบแทน | C7: เงินงบประมาณ | D7: =52000+9000+36000 -> 97000 | E7: 86740 | F7: 0 | G7: 0 | H7: 0 | I7: 0 | J7: =SUM(E7:I7) -> 86740
B8: ค่าใช้สอย | C8: เงินงบประมาณ | D8: =14000+33000+100000 -> 147000 | E8: 32644 | F8: 99992 | G8: 0 | H8: 0 | I8: 0 | J8: =SUM(E8:I8) -> 132636
B9: ค่าวัสดุ | C9: เงินงบประมาณ | D9: =8000+15000+19000 -> 42000 | E9: 12302.85 | F9: 0 | G9: 0 | H9: 0 | I9: 0 | J9: =SUM(E9:I9) -> 12302.85
B10: ค่าสาธารณูปโภค | C10: เงินงบประมาณ | D10: 45000 | E10: 0 | G10: 0 | H10: 0 | I10: 0 | J10: =SUM(E10:I10) -> 0
A11: งบลงทุน | B11: ค่าครุภัณฑ์ | C11: เงินงบประมาณ | D11: 53000 | E11: 53000 | F11: 0 | G11: 0 | H11: 0 | I11: 0 | J11: =SUM(E11:I11) -> 53000
B12: ค่าที่ดินและสิ่งก่อสร้าง | C12: เงินงบประมาณ | D12: 25900 | E12: 0 | F12: 25500 | G12: 0 | H12: 0 | I12: 0 | J12: =SUM(E12:I12) -> 25500
A13: งบรายจ่ายอื่น | B13: รายจ่ายอื่น | D13: 0 | E13: 0 | F13: 0 | G13: 0 | H13: 0 | I13: 0 | J13: =SUM(E13:I13) -> 0
A14: งบเงินอุดหนุน | B14: เงินอุดหนุน | D14: 0 | E14: 0 | F14: 0 | G14: 0 | H14: 0 | I14: 0 | J14: =SUM(E14:I14) -> 0
A15: รวม | D15: =SUM(D6:D14) -> 1033900 | E15: =SUM(E6:E14) -> 804546.85 | F15: =SUM(F6:F14) -> 125492 | G15: =SUM(G6:G14) -> 0 | H15: =SUM(H6:H14) -> 0 | I15: =SUM(I6:I14) -> 0 | J15: =SUM(J6:J14) -> 930038.85

Sheet ตามแผนงาน 7
A1: =+งบแสดงฐานะการเงิน!A1 -> องค์การบริหารส่วนตำบลท่าซอม
A2: รายงานรายจ่ายในการดำเนินงานที่จ่ายจากเงินรายรับตามแผนงาน ...สร้างความเข้มแข็งของชุมชน...
A3: =+'ตามแผนงาน 1'!A3:F3 -> ตั้งแต่วันที่ 1 ตุลาคม 2559 ถึงวันที่ 30 กันยายน 2560
A5: งบ | B5: หมวด | C5: แหล่งเงิน | D5: ประมาณการ | E5: งานบริหารทั่วไป เกี่ยวกับการสร้างความ เข้มแข็งของชุมชม | F5: งานส่งเสริมและ สนับสนุนความ เข้มแข็งชุมชน | G5: รวม
A6: งบบุคลากร | B6: เงินเดือน(ฝ่ายประจำ) | D6: 0 | E6: 0 | F6: 0 | G6: =SUM(E6:F6) -> 0
A7: งบดำเนินการ | B7: ค่าตอบแทน | D7: 0 | E7: 0 | F7: 0 | G7: =SUM(E7:F7) -> 0
B8: ค่าใช้สอย | C8: เงินงบประมาณ | D8: 119000 | E8: 0 | F8: 20392 | G8: =SUM(E8:F8) -> 20392
C9: เงินอุดหนุนระบุวัตถุประสงค์/ | D9: 0 | E9: 0 | F9: 0 | G9: =SUM(E9:F9) -> 0
C10: เฉพาะกิจ | E10: 0 | F10: 0 | G10: =SUM(E10:F10) -> 0
B11: ค่าวัสดุ | D11: 0 | E11: 0 | F11: 0 | G11: =SUM(E11:F11) -> 0
B12: ค่าสาธารณูปโภค | D12: 0 | E12: 0 | F12: 0 | G12: =SUM(E12:F12) -> 0
A13: งบลงทุน | B13: ค่าครุภัณฑ์ | D13: 0 | E13: 0 | F13: 0 | G13: =SUM(E13:F13) -> 0
B14: ค่าที่ดินและสิ่งก่อสร้าง | D14: 0 | E14: 0 | F14: 0 | G14: =SUM(E14:F14) -> 0
A15: งบรายจ่ายอื่น | B15: รายจ่ายอื่น | D15: 0 | E15: 0 | F15: 0 | G15: =SUM(E15:F15) -> 0
A16: งบเงินอุดหนุน | B16: เงินอุดหนุน | D16: 0 | E16: 0 | F16: 0 | G16: =SUM(E16:F16) -> 0
A17: รวม | D17: =SUM(D6:D16) -> 119000 | E17: =SUM(E6:E16) -> 0 | F17: =SUM(F6:F16) -> 20392 | G17: =SUM(G6:G16) -> 20392

Sheet ตามแผนงาน 8
A1: =+งบแสดงฐานะการเงิน!A1 -> องค์การบริหารส่วนตำบลท่าซอม
A2: รายงานรายจ่ายในการดำเนินงานที่จ่ายจากเงินรายรับตามแผนงาน ...การศาสนาวัฒนธรรมและนันทนาการ...
A3: =+'ตามแผนงาน 1'!A3:F3 -> ตั้งแต่วันที่ 1 ตุลาคม 2559 ถึงวันที่ 30 กันยายน 2560
A5: งบ | B5: หมวด | C5: แหล่งเงิน | D5: ประมาณการ | E5: งานบริหารทั่วไป เกี่ยวกับศาสนา วัฒนธรรมและ นันทนาการ | F5: งานกีฬาและ นันทนาการ | G5: งานศาสนาและ วัฒนธรรมท้องถิ่น | H5: งานวิชการวางแผน และส่งเสริม การท่องเที่ยว | I5: รวม
A6: งบบุคลากร | B6: เงินเดือน(ฝ่ายประจำ) | D6: 0 | E6: 0 | F6: 0 | G6: 0 | H6: 0 | I6: =SUM(E6:H6) -> 0
A7: งบดำเนินการ | B7: ค่าตอบแทน | D7: 0 | E7: 0 | F7: 0 | G7: 0 | H7: 0 | I7: =SUM(E7:H7) -> 0
B8: ค่าใช้สอย | C8: เงินงบประมาณ | D8: 90000 | E8: 0 | F8: 0 | G8: 66000 | H8: 0 | I8: =SUM(E8:H8) -> 66000
B9: ค่าวัสดุ | D9: 0 | E9: 0 | F9: 0 | G9: 0 | H9: 0 | I9: =SUM(E9:H9) -> 0
B10: ค่าสาธารณูปโภค | D10: 0 | E10: 0 | F10: 0 | G10: 0 | H10: 0 | I10: =SUM(E10:H10) -> 0
A11: งบลงทุน | B11: ค่าครุภัณฑ์ | D11: 0 | E11: 0 | F11: 0 | G11: 0 | H11: 0 | I11: =SUM(E11:H11) -> 0
B12: ค่าที่ดินและสิ่งก่อสร้าง | D12: 0 | E12: 0 | F12: 0 | G12: 0 | H12: 0 | I12: =SUM(E12:H12) -> 0
A13: งบรายจ่ายอื่น | B13: รายจ่ายอื่น | D13: 0 | E13: 0 | F13: 0 | G13: 0 | H13: 0 | I13: =SUM(E13:H13) -> 0
A14: งบเงินอุดหนุน | B14: เงินอุดหนุน | C14: เงินงบประมาณ | D14: 43000 | E14: 0 | F14: 0 | G14: 3500 | H14: 0 | I14: =SUM(E14:H14) -> 3500
A15: รวม | D15: =SUM(D6:D14) -> 133000 | E15: =SUM(E6:E14) -> 0 | F15: =SUM(F6:F14) -> 0 | G15: =SUM(G6:G14) -> 69500 | H15: =SUM(H6:H14) -> 0 | I15: =SUM(I6:I14) -> 69500

Sheet ตามแผนงาน 9
A1: =+งบแสดงฐานะการเงิน!A1 -> องค์การบริหารส่วนตำบลท่าซอม
A2: รายงานรายจ่ายในการดำเนินงานที่จ่ายจากเงินรายรับตามแผนงาน ...การเกษตร...
A3: =+'ตามแผนงาน 1'!A3:F3 -> ตั้งแต่วันที่ 1 ตุลาคม 2559 ถึงวันที่ 30 กันยายน 2560
A5: งบ | B5: หมวด | C5: แหล่งเงิน | D5: ประมาณการ | E5: งานส่งเสริมการเกษตร | F5: งานอนุรักษ์แหล่งน้ำ และป่าไม้ | G5: รวม
A6: งบบุคลากร | B6: เงินเดือน(ฝ่ายประจำ) | D6: 0 | E6: 0 | F6: 0 | G6: =SUM(E6:F6) -> 0
A7: งบดำเนินการ | B7: ค่าตอบแทน | D7: 0 | E7: 0 | F7: 0 | G7: =SUM(E7:F7) -> 0
B8: ค่าใช้สอย | C8: เงินงบประมาณ | D8: 99500 | E8: 0 | F8: 98560 | G8: =SUM(E8:F8) -> 98560
B9: ค่าวัสดุ | D9: 0 | E9: 0 | F9: 0 | G9: =SUM(E9:F9) -> 0
B10: ค่าสาธารณูปโภค | D10: 0 | E10: 0 | F10: 0 | G10: =SUM(E10:F10) -> 0
A11: งบลงทุน | B11: ค่าครุภัณฑ์ | D11: 0 | E11: 0 | F11: 0 | G11: =SUM(E11:F11) -> 0
B12: ค่าที่ดินและสิ่งก่อสร้าง | C12: เงินงบประมาณ | D12: 0 | E12: 0 | F12: 0 | G12: =SUM(E12:F12) -> 0
A13: งบรายจ่ายอื่น | B13: รายจ่ายอื่น | D13: 0 | E13: 0 | F13: 0 | G13: =SUM(E13:F13) -> 0
A14: งบเงินอุดหนุน | B14: เงินอุดหนุน | D14: 0 | E14: 0 | F14: 0 | G14: =SUM(E14:F14) -> 0
A15: รวม | D15: =SUM(D6:D14) -> 99500 | E15: =SUM(E6:E14) -> 0 | F15: =SUM(F6:F14) -> 98560 | G15: =SUM(G6:G14) -> 98560

Sheet ตามแผนงาน 10
A1: =+งบแสดงฐานะการเงิน!A1 -> องค์การบริหารส่วนตำบลท่าซอม
A2: รายงานรายจ่ายในการดำเนินงานที่จ่ายจากเงินรายรับตามแผนงาน ...การพาณิชย์...
A3: =+'ตามแผนงาน 1'!A3:F3 -> ตั้งแต่วันที่ 1 ตุลาคม 2559 ถึงวันที่ 30 กันยายน 2560
A5: งบ | B5: หมวด | C5: แหล่งเงิน | D5: ประมาณการ | E5: งานกิจการประปา | F5: งานตลาดสด | G5: งานโรงฆ่าสัตว์ | H5: รวม
A6: งบบุคลากร | B6: เงินเดือน(ฝ่ายประจำ) | D6: 0 | E6: 0 | F6: 0 | G6: 0 | H6: =SUM(E6:G6) -> 0
A7: งบดำเนินการ | B7: ค่าตอบแทน | D7: 0 | E7: 0 | F7: 0 | G7: 0 | H7: =SUM(E7:G7) -> 0
B8: ค่าใช้สอย | C8: เงินงบประมาณ | D8: =288000+190000 -> 478000 | E8: 450900 | F8: 0 | G8: 0 | H8: =SUM(E8:G8) -> 450900
B9: ค่าวัสดุ | C9: เงินงบประมาณ | D9: =73000+18000 -> 91000 | E9: 87325 | F9: 0 | G9: 0 | H9: =SUM(E9:G9) -> 87325
B10: ค่าสาธารณูปโภค | C10: เงินงบประมาณ | D10: 600000 | E10: 427893.81 | F10: 0 | G10: 0 | H10: =SUM(E10:G10) -> 427893.81
A11: งบลงทุน | B11: ค่าครุภัณฑ์ | D11: 0 | E11: 0 | F11: 0 | G11: 0 | H11: =SUM(E11:G11) -> 0
B12: ค่าที่ดินและสิ่งก่อสร้าง | C12: เงินงบประมาณ | D12: 0 | E12: 0 | F12: 0 | G12: 0 | H12: =SUM(E12:G12) -> 0
C13: เงินอุดหนุนระบุวัตถุประสงค์/ | D13: 1467060 | E13: 1467060 | F13: 0 | G13: 0 | H13: =SUM(E13:G13) -> 1467060
C14: เฉพาะกิจ
A15: งบรายจ่ายอื่น | B15: รายจ่ายอื่น | D15: 0 | E15: 0 | F15: 0 | G15: 0 | H15: =SUM(E15:G15) -> 0
A16: งบเงินอุดหนุน | B16: เงินอุดหนุน | D16: 0 | E16: 0 | F16: 0 | G16: 0 | H16: =SUM(E16:G16) -> 0
A17: รวม | D17: =SUM(D6:D16) -> 2636060 | E17: =SUM(E6:E16) -> 2433178.8 | F17: =SUM(F6:F16) -> 0 | G17: =SUM(G6:G16) -> 0 | H17: =SUM(H6:H16) -> 2433178.8

Sheet ตามแผนงานรวม
A1: =+งบแสดงฐานะการเงิน!A1 -> องค์การบริหารส่วนตำบลท่าซอม
A2: รายงานรายจ่ายในการดำเนินงานที่จ่ายจากเงินรายรับตามแผนงานรวม
A3: =+'ตามแผนงาน 1'!A3:F3 -> ตั้งแต่วันที่ 1 ตุลาคม 2559 ถึงวันที่ 30 กันยายน 2560
A5: งบ | B5: หมวด | C5: แหล่งเงิน | D5: แผนงาน
D6: บริหาร งาน ทั่วไป | E6: การรักษา ความ สงบภายใน | F6: การศึกษา | G6: สาธารณสุข | H6: สังคม สงเคราะห์ | I6: เคหะและ ชุมชน | J6: สร้าง ความ เข้มแข็ง ของชุมชน | K6: การ ศาสนา วัฒนธรรม และ นันทนาการ | L6: อุตสาหกรรม และการโยธา | M6: การเกษตร | N6: การ พาณิชย์ | O6: งบกลาง | P6: รวม
A7: งบกลาง | B7: งบกลาง | C7: เงินงบประมาณ | D7: 0 | E7: 0 | F7: 0 | G7: 0 | H7: 0 | I7: 0 | J7: 0 | K7: 0 | L7: 0 | M7: 0 | N7: 0 | O7: =6252799-1000 -> 6251799 | P7: =SUM(D7:O7) -> 6251799
C8: เงินอุดหนุนระบุวัตถุประสงค์/ | D8: 0 | E8: 0 | F8: 0 | G8: 0 | H8: 0 | I8: 0 | J8: 0 | K8: 0 | L8: 0 | M8: 0 | N8: 0 | P8: =SUM(D8:O8) -> 0
C9: เฉพาะกิจ
A10: งบบุคลากร | B10: เงินเดือน(ฝ่ายการเมือง) | C10: เงินงบประมาณ | D10: 2398320 | E10: 0 | F10: 0 | G10: 0 | H10: 0 | I10: 0 | J10: 0 | K10: 0 | L10: 0 | M10: 0 | N10: 0 | O10: 0 | P10: =SUM(D10:O10) -> 2398320
B11: เงินเดือน(ฝ่ายประจำ) | C11: เงินงบประมาณ | D11: 3832620 | E11: 0 | F11: 2082635.4 | G11: 120000 | H11: 0 | I11: 619860 | J11: 0 | K11: 0 | L11: 0 | M11: 0 | N11: 0 | O11: 0 | P11: =SUM(D11:O11) -> 6655115.4
C12: เงินอุดหนุนระบุวัตถุประสงค์/ | D12: 0 | E12: 0 | G12: 0 | H12: 0 | I12: 0 | J12: 0 | K12: 0 | L12: 0 | M12: 0 | N12: 0 | O12: 0 | P12: =SUM(D12:O12) -> 0
C13: เฉพาะกิจ
A14: งบดำเนินการ | B14: ค่าตอบแทน | C14: เงินงบประมาณ | D14: 391900 | E14: 0 | F14: 46950 | G14: 0 | H14: 0 | I14: 86740 | J14: 0 | K14: 0 | L14: 0 | M14: 0 | N14: 0 | O14: 0 | P14: =SUM(D14:O14) -> 525590
C15: เงินอุดหนุนระบุวัตถุประสงค์/ | D15: 0 | E15: 0 | F15: 0 | G15: 0 | H15: 0 | I15: 0 | J15: 0 | K15: 0 | L15: 0 | M15: 0 | N15: 0 | O15: 0 | P15: =SUM(D15:O15) -> 0
C16: เฉพาะกิจ | O16: 0
B17: ค่าใช้สอย | C17: เงินงบประมาณ | D17: 673183.4 | E17: 22920 | F17: 771058 | G17: 213104.66 | H17: 0 | I17: 132636 | J17: 20392 | K17: 66000 | L17: 0 | M17: 98560 | N17: 450900 | O17: 0 | P17: =SUM(D17:O17) -> 2448754.1
C18: เงินอุดหนุนระบุวัตถุประสงค์/ | D18: 0 | E18: 0 | F18: 0 | G18: 0 | H18: 0 | I18: 0 | K18: 0 | L18: 0 | M18: 0 | N18: 0 | O18: 0 | P18: =SUM(D18:O18) -> 0
C19: เฉพาะกิจ
B20: ค่าวัสดุ | C20: เงินงบประมาณ | D20: 293407.26 | E20: 0 | F20: 628454.4 | G20: 0 | H20: 0 | I20: 12302.85 | J20: 0 | K20: 0 | L20: 0 | M20: 0 | N20: 87325 | O20: 0 | P20: =SUM(D20:O20) -> 1021489.5
C21: เงินอุดหนุนระบุวัตถุประสงค์/ | D21: 0 | E21: 0 | G21: 0 | H21: 0 | I21: 0 | J21: 0 | K21: 0 | L21: 0 | M21: 0 | N21: 0 | O21: 0 | P21: =SUM(D21:O21) -> 0
C22: เฉพาะกิจ
B23: ค่าสาธารณูปโภค | C23: เงินงบประมาณ | D23: 254825.98 | E23: 0 | F23: 10877.06 | G23: 0 | H23: 0 | I23: 0 | J23: 0 | K23: 0 | L23: 0 | M23: 0 | N23: 427893.81 | O23: 0 | P23: =SUM(D23:O23) -> 693596.85
A24: งบลงทุน | B24: ค่าครุภัณฑ์ | C24: เงินงบประมาณ | D24: 112900 | E24: 0 | F24: 24800 | G24: 0 | H24: 0 | I24: 53000 | J24: 0 | K24: 0 | L24: 0 | M24: 0 | N24: 0 | O24: 0 | P24: =SUM(D24:O24) -> 190700
B25: ค่าที่ดินและสิ่งก่อสร้าง | C25: เงินงบประมาณ | D25: 673000 | E25: 0 | F25: 215000 | G25: 0 | H25: 0 | I25: 25500 | J25: 0 | K25: 0 | L25: 0 | M25: 0 | N25: 0 | O25: 0 | P25: =SUM(D25:O25) -> 913500
C26: เงินอุดหนุนระบุวัตถุประสงค์/ | D26: 0 | E26: 0 | F26: 0 | G26: 0 | H26: 0 | I26: 0 | J26: 0 | K26: 0 | L26: 0 | M26: 0 | N26: 1467060 | O26: 0 | P26: =SUM(D26:O26) -> 1467060
C27: เฉพาะกิจ
A28: งบรายจ่ายอื่น | B28: รายจ่ายอื่น | C28: เงินงบประมาณ | D28: 25000 | E28: 0 | F28: 0 | G28: 0 | H28: 0 | I28: 0 | J28: 0 | K28: 0 | L28: 0 | M28: 0 | N28: 0 | O28: 0 | P28: =SUM(D28:O28) -> 25000
A29: งบเงินอุดหนุน | B29: เงินอุดหนุน | C29: เงินงบประมาณ | D29: 29325 | E29: 0 | F29: 1073200 | G29: 0 | H29: 0 | I29: 0 | J29: 0 | K29: 3500 | L29: 0 | M29: 0 | N29: 0 | O29: 0 | P29: =SUM(D29:O29) -> 1106025
A30: รวม | D30: =SUM(D7:D29) -> 8684481.6 | E30: =SUM(E7:E29) -> 22920 | F30: =SUM(F7:F29) -> 4852974.8 | G30: =SUM(G7:G29) -> 333104.66 | H30: =SUM(H7:H29) -> 0 | I30: =SUM(I7:I29) -> 930038.85 | J30: =SUM(J7:J29) -> 20392 | K30: =SUM(K7:K29) -> 69500 | ... P30: =SUM(P7:P29) -> 23696950 | R30: =SUM(D30:O30) -> 23696950
R32: =+งบแสดงผลจ่ายจากเงินรายรับ!C19 -> 23696950
R33: =+R32-R30 -> 0 | S33: อุดหนุนพัฒนาประเทศ

Sheet จ่ายจากเงินสะสม
A1: =+งบแสดงฐานะการเงิน!A1 -> องค์การบริหารส่วนตำบลท่าซอม
A2: รายงานรายจ่ายในการดำเนินงานที่จ่ายจากเงินสะสม
A3: =+'ตามแผนงาน 1'!A3:F3 -> ตั้งแต่วันที่ 1 ตุลาคม 2559 ถึงวันที่ 30 กันยายน 2560
A5: งบ | B5: หมวด | C5: แผนงาน
C6: บริหาร งาน ทั่วไป | D6: การรักษา ความ สงบภายใน | E6: การศึกษา | F6: สาธารณสุข สังคม | G6: สังคม สงเคราะห์ | H6: เคหะและ ชุมชน | I6: สร้าง ความ เข้มแข็ง ของชุมชน | J6: การ ศาสนา วัฒนธรรม และ นันทนาการ | K6: อุตสาหกรรม และการโยธา | L6: การเกษตร การ | M6: การ พาณิชย์ | N6: งบกลาง | O6: รวม
A7: งบกลาง | B7: งบกลาง | C7: 0 | D7: 0 | E7: 0 | F7: 0 | G7: 0 | H7: 0 | I7: 0 | J7: 0 | K7: 0 | L7: 0 | M7: 0 | N7: 319232.5 | O7: =SUM(C7:N7) -> 319232.5
A8: งบบุคลากร | B8: เงินเดือน(ฝ่ายการเมือง) | C8: 0 | D8: 0 | E8: 0 | F8: 0 | G8: 0 | H8: 0 | I8: 0 | J8: 0 | K8: 0 | L8: 0 | M8: 0 | N8: 0
B9: เงินเดือน(ฝ่ายประจำ) | C9: 0 | D9: 0 | E9: 0 | F9: 0 | G9: 0 | H9: 0 | I9: 0 | J9: 0 | K9: 0 | L9: 0 | M9: 0 | N9: 0 | O9: =SUM(C9:N9) -> 0
A10: งบดำเนินการ | B10: ค่าตอบแทน | C10: 0 | D10: 0 | E10: 0 | F10: 0 | G10: 0 | H10: 0 | I10: 0 | J10: 0 | K10: 0 | L10: 0 | M10: 0 | N10: 0 | O10: =SUM(C10:N10) -> 0
B11: ค่าใช้สอย | C11: 0 | D11: 0 | E11: 0 | F11: 0 | G11: 0 | H11: 0 | I11: 0 | J11: 0 | K11: 0 | L11: 0 | M11: 0 | N11: 0 | O11: =SUM(C11:N11) -> 0
B12: ค่าวัสดุ | C12: 0 | D12: 0 | E12: 0 | F12: 0 | G12: 0 | H12: 0 | I12: 0 | J12: 0 | K12: 0 | L12: 0 | M12: 0 | N12: 0 | O12: =SUM(C12:N12) -> 0
B13: ค่าสาธารณูปโภค | C13: 0 | D13: 0 | E13: 0 | F13: 0 | G13: 0 | H13: 0 | I13: 0 | J13: 0 | K13: 0 | L13: 0 | M13: 0 | N13: 0 | O13: =SUM(C13:N13) -> 0
A14: งบลงทุน | B14: ค่าครุภัณฑ์ | C14: 0 | D14: 0 | E14: 0 | F14: 0 | G14: 0 | H14: 0 | I14: 0 | J14: 0 | K14: 0 | L14: 0 | M14: 0 | N14: 0 | O14: =SUM(C14:N14) -> 0
B15: ค่าที่ดินและสิ่งก่อสร้าง | C15: 0 | D15: 0 | E15: 0 | F15: 0 | G15: 0 | H15: =4752800+470000 -> 5222800 | I15: 0 | J15: 0 | K15: 0 | L15: 0 | M15: 0 | N15: 0 | O15: =SUM(C15:N15) -> 5222800
A16: งบรายจ่ายอื่น | B16: รายจ่ายอื่น | C16: 0 | D16: 0 | E16: 0 | F16: 0 | G16: 0 | H16: 0 | I16: 0 | J16: 0 | K16: 0 | L16: 0 | M16: 0 | N16: 0 | O16: =SUM(C16:N16) -> 0
A17: งบเงินอุดหนุน | B17: เงินอุดหนุน | C17: 0 | D17: 0 | E17: 0 | F17: 0 | G17: 0 | H17: 0 | I17: 0 | J17: 0 | K17: 0 | L17: 0 | M17: 0 | N17: 0 | O17: =SUM(C17:N17) -> 0
A18: รวม | C18: =SUM(C7:C17) -> 0 | D18: =SUM(D7:D17) -> 0 | E18: =SUM(E7:E17) -> 0 | F18: =SUM(F7:F17) -> 0 | G18: =SUM(G7:G17) -> 0 | H18: =SUM(H7:H17) -> 5222800 | I18: =SUM(I7:I17) -> 0 | J18: =SUM(J7:J17) -> 0 | ... O18: =SUM(O7:O17) -> 5542032.5

Sheet งบแสดงผลจ่ายจากเงินรายรับ
A1: =+งบแสดงฐานะการเงิน!A1 -> องค์การบริหารส่วนตำบลท่าซอม
A2: งบแสดงผลการดำเนินงานจ่ายจากเงินรายรับ
A3: =+'ตามแผนงาน 1'!A3:F3 -> ตั้งแต่วันที่ 1 ตุลาคม 2559 ถึงวันที่ 30 กันยายน 2560
A5: รายการ | B5: ประมาณการ | C5: รวม | D5: แผนงาน
D6: บริหาร งาน ทั่วไป | E6: การรักษา ความ สงบภายใน | F6: การศึกษา | G6: สาธารณสุข | H6: สังคม สงเคราะห์ | I6: เคหะและ ชุมชน | J6: สร้าง ความ เข้มแข็ง ของชุมชน | K6: การ ศาสนา วัฒนธรรม และ นันทนาการ | L6: อุตสาหกรรม และการโยธา | M6: การเกษตร การ | N6: การ พาณิชย์ | O6: งบกลาง
A7: รายจ่าย
A8: งบกลาง | B8: 6746613 | C8: =SUM(D8:O8) -> 6251799 | D8: 0 | E8: 0 | F8: 0 | G8: 0 | H8: 0 | I8: 0 | J8: 0 | K8: 0 | L8: 0 | M8: 0 | N8: 0 | O8: 6251799
A9: เงินเดือน(ฝ่ายการเมือง) | B9: 2398320 | C9: =SUM(D9:O9) -> 2398320 | D9: 2398320 | E9: 0 | F9: 0 | G9: 0 | H9: 0 | I9: 0 | J9: 0 | K9: 0 | L9: 0 | M9: 0 | N9: 0 | O9: 0
A10: เงินเดือน(ฝ่ายประจำ) | B10: 6913200 | C10: =SUM(D10:O10) -> 6655115.4 | D10: 3832620 | E10: 0 | F10: 2082635.4 | G10: 120000 | H10: 0 | I10: 619860 | J10: 0 | K10: 0 | L10: 0 | M10: 0 | N10: 0 | O10: 0
A11: ค่าตอบแทน | B11: 1249660 | C11: =SUM(D11:O11) -> 525590 | D11: 391900 | E11: 0 | F11: 46950 | G11: 0 | H11: 0 | I11: 86740 | J11: 0 | K11: 0 | L11: 0 | M11: 0 | N11: 0 | O11: 0
A12: ค่าใช้สอย | B12: 3699840 | C12: =SUM(D12:O12) -> 2448754.1 | D12: 673183.4 | E12: 22920 | F12: 771058 | G12: 213104.66 | H12: 0 | I12: 132636 | J12: 20392 | K12: 66000 | L12: 0 | M12: 98560 | N12: 450900 | O12: 0
A13: ค่าวัสดุ | B13: 1256967 | C13: =SUM(D13:O13) -> 1021489.5 | D13: 293407.26 | E13: 0 | F13: 628454.4 | G13: 0 | H13: 0 | I13: 12302.85 | J13: 0 | K13: 0 | L13: 0 | M13: 0 | N13: 87325 | O13: 0
A14: ค่าสาธารณูปโภค | B14: 993300 | C14: =SUM(D14:O14) -> 693596.85 | D14: 254825.98 | E14: 0 | F14: 10877.06 | G14: 0 | H14: 0 | I14: 0 | J14: 0 | K14: 0 | L14: 0 | M14: 0 | N14: 427893.81 | O14: 0
A15: ค่าครุภัณฑ์ (หมายเหตุ 1) | B15: 223500 | C15: =SUM(D15:O15) -> 190700 | D15: 112900 | E15: 0 | F15: 24800 | G15: 0 | H15: 0 | I15: 53000 | J15: 0 | K15: 0 | L15: 0 | M15: 0 | N15: 0 | O15: 0
A16: ค่าที่ดินและสิ่งก่อสร้าง (หมายเหตุ 2 ) | B16: 1155400 | C16: =SUM(D16:O16) -> 2380560 | D16: 673000 | E16: 0 | F16: 215000 | G16: 0 | H16: 0 | I16: 25500 | J16: 0 | K16: 0 | L16: 0 | M16: 0 | N16: 1467060 | O16: 0
A17: รายจ่ายอื่น | B17: 25000 | C17: =SUM(D17:O17) -> 25000 | D17: 25000 | E17: 0 | F17: 0 | G17: 0 | H17: 0 | I17: 0 | J17: 0 | K17: 0 | L17: 0 | M17: 0 | N17: 0 | O17: 0
A18: เงินอุดหนุน | B18: 1194400 | C18: =SUM(D18:O18) -> 1106025 | D18: 29325 | E18: 0 | F18: 1073200 | G18: 0 | H18: 0 | I18: 0 | J18: 0 | K18: 3500 | L18: 0 | M18: 0 | N18: 0 | O18: 0
A19: รวยรายจ่าย | B19: =SUM(B8:B18) -> 25856200 | C19: =SUM(C8:C18) -> 23696950 | D19: =SUM(D8:D18) -> 8684481.6 | E19: =SUM(E8:E18) -> 22920 | F19: =SUM(F8:F18) -> 4852974.8 | G19: =SUM(G8:G18) -> 333104.66 | H19: =SUM(H8:H18) -> 0 | I19: =SUM(I8:I18) -> 930038.85 | ... O19: =SUM(O8:O18) -> 6251799 | Q19: =SUM(D19:P19) -> 23696950
A20: รายรับ
A21: หมวดภาษีอากร | B21: 76200 | C21: 81910.02 | D21: 0 | E21: 0 | F21: 0 | G21: 0 | H21: 0 | I21: 0 | J21: 0 | K21: 0 | L21: 0 | M21: 0 | N21: 0 | O21: 0
A22: หมวดค่าธรรมเนียมค่าปรับและใบอนุญาต | B22: 49200 | C22: 42870 | D22: 0 | E22: 0 | F22: 0 | G22: 0 | H22: 0 | I22: 0 | J22: 0 | K22: 0 | L22: 0 | M22: 0 | N22: 0 | O22: 0
A23: หมวดรายได้ทรัพย์สิน | B23: 91200 | C23: 68165.82 | D23: 0 | E23: 0 | F23: 0 | G23: 0 | H23: 0 | I23: 0 | J23: 0 | K23: 0 | L23: 0 | M23: 0 | N23: 0 | O23: 0
A24: หมวดรายได้จากสาธารณูปโภคและการพาณิชย์ | B24: 436800 | C24: 469735 | D24: 0 | E24: 0 | F24: 0 | G24: 0 | H24: 0 | I24: 0 | J24: 0 | K24: 0 | L24: 0 | M24: 0 | N24: 0 | O24: 0
A25: หมวดรายได้เบ็ดเตล็ด | B25: 65300 | C25: 69102 | D25: 0 | E25: 0 | F25: 0 | G25: 0 | H25: 0 | I25: 0 | J25: 0 | K25: 0 | L25: 0 | M25: 0 | N25: 0 | O25: 0
A26: หมวดรายได้จากทุน | B26: 500 | C26: 11140 | D26: 0 | E26: 0 | F26: 0 | G26: 0 | H26: 0 | I26: 0 | J26: 0 | K26: 0 | L26: 0 | M26: 0 | N26: 0 | O26: 0
A27: หมวดภาษีจัดสรร | B27: 11809700 | C27: 13626485 | D27: 0 | E27: 0 | F27: 0 | G27: 0 | H27: 0 | I27: 0 | J27: 0 | K27: 0 | L27: 0 | M27: 0 | N27: 0 | O27: 0
A28: หมวดเงินอุดหนุนทั่วไป | B28: 13327300 | C28: 12851696 | D28: 0 | E28: 0 | F28: 0 | G28: 0 | H28: 0 | I28: 0 | J28: 0 | K28: 0 | L28: 0 | M28: 0 | N28: 0 | O28: 0
A29: หมวดเงินอุดหนุนระบุวัตถุประสงค์/เฉพาะกิจ | B29: 0 | C29: 1467060 | D29: 0 | E29: 0 | F29: 0 | G29: 0 | H29: 0 | I29: 0 | J29: 0 | K29: 0 | L29: 0 | M29: 0 | N29: 0 | O29: 0
A30: รวมรายรับ | B30: =SUM(B21:B29) -> 25856200 | C30: =SUM(C21:C29) -> 28688163 | D30: =SUM(D21:D29) -> 0 | E30: =SUM(E21:E29) -> 0 | F30: =SUM(F21:F29) -> 0 | G30: =SUM(G21:G29) -> 0 | H30: =SUM(H21:H29) -> 0 | I30: =SUM(I21:I29) -> 0 | ... O30: =SUM(O21:O29) -> 0
A31: รายรับสูงกว่าหรือ(ต่ำกว่า)รายจ่าย | C31: =+C30-C19 -> 4991213.7 | Q31: =+C29-13600 -> 1453460 | R31: ตรงกับรับจริง
Q32: =SUM(C21:C28) -> 27221103 | R32: รายได้ไม่รวมเงินอุดหนุนเฉพาะกิจ
Q33: =+C31 -> 4991213.7
Q34: 3235834.9 | R34: รายรับ มากกว่า รายจ่าย (ไม่รวมเงินอุดหนุนเฉพาะกิจ)
A35: รายละเอียดประกอบงบแสดงผลการดำเนินงานจ่ายจากเงินรายรับ | Q35: =+Q33-Q34 -> 1755378.8 | R35: ผลต่าง (คนแก่คนพิการ รอคืนจังหวัด)
A37: หมายเหตุ 1 ค่าครุภัณฑ์ | B37: จำนวนเงิน | C37: =+C15 -> 190700 | D37: บาท | E37: ประกอบด้วย | H37: หมายเหตุ 2 ค่าที่ดินและสิ่งก่อสร้าง จำนวนเงิน | K37: =+C16 -> 2380560 | L37: บาท | M37: ประกอบด้วย
B39: จ่ายจากเงินรายรับ | E39: =+C37 -> 190700 | F39: บาท | J39: จ่ายจากเงินรายรับ | M39: =+K37-M40 -> 913500 | N39: บาท
B40: จ่ายจากเงินอุดหนุนระบุวัตถุประสงค์ / เฉพาะกิจ | E40: 0 | F40: บาท | J40: จ่ายจากเงินอุดหนุนระบุวัตถุประสงค์ / เฉพาะกิจ | M40: 1467060

Sheet งบแสดงผลฯเงินรายรับ เงินสะสม
A1: =+งบแสดงฐานะการเงิน!A1 -> องค์การบริหารส่วนตำบลท่าซอม
A2: งบแสดงผลการดำเนินงานจ่ายจากเงินรายรับและเงินสะสม
A3: =+'ตามแผนงาน 1'!A3:F3 -> ตั้งแต่วันที่ 1 ตุลาคม 2559 ถึงวันที่ 30 กันยายน 2560
A5: รายการ | B5: ประมาณการ | C5: รวม | D5: แผนงาน
D6: บริหาร งาน ทั่วไป | E6: การรักษา ความ สงบภายใน | F6: การศึกษา | G6: สาธารณสุข | H6: สังคม สงเคราะห์ | I6: เคหะและ ชุมชน | J6: สร้าง ความ เข้มแข็ง ของชุมชน | K6: การ ศาสนา วัฒนธรรม และ นันทนาการ | L6: อุตสาหกรรม และการโยธา | M6: การเกษตร การ | N6: การ พาณิชย์ | O6: งบกลาง
A7: รายจ่าย
A8: งบกลาง | B8: 6746613 | C8: =SUM(D8:O8) -> 6571031.5 | D8: 0 | E8: 0 | F8: 0 | G8: 0 | H8: 0 | I8: 0 | J8: 0 | K8: 0 | L8: 0 | M8: 0 | N8: 0 | O8: =6252799-1000+319232.5 -> 6571031.5
A9: เงินเดือน(ฝ่ายการเมือง) | B9: 2398320 | C9: =SUM(D9:O9) -> 2398320 | D9: 2398320 | E9: 0 | F9: 0 | G9: 0 | H9: 0 | I9: 0 | J9: 0 | K9: 0 | L9: 0 | M9: 0 | N9: 0 | O9: 0
A10: เงินเดือน(ฝ่ายประจำ) | B10: 6913200 | C10: =SUM(D10:O10) -> 6655115.4 | D10: 3832620 | E10: 0 | F10: 2082635.4 | G10: 120000 | H10: 0 | I10: 619860 | J10: 0 | K10: 0 | L10: 0 | M10: 0 | N10: 0 | O10: 0
A11: ค่าตอบแทน | B11: 1249660 | C11: =SUM(D11:O11) -> 525590 | D11: 391900 | E11: 0 | F11: 46950 | G11: 0 | H11: 0 | I11: 86740 | J11: 0 | K11: 0 | L11: 0 | M11: 0 | N11: 0 | O11: 0
A12: ค่าใช้สอย | B12: 3699840 | C12: =SUM(D12:O12) -> 2448754.1 | D12: 673183.4 | E12: 22920 | F12: 771058 | G12: 213104.66 | H12: 0 | I12: 132636 | J12: 20392 | K12: 66000 | L12: 0 | M12: 98560 | N12: 450900 | O12: 0
A13: ค่าวัสดุ | B13: 1256967 | C13: =SUM(D13:O13) -> 1021489.5 | D13: 293407.26 | E13: 0 | F13: 628454.4 | G13: 0 | H13: 0 | I13: 12302.85 | J13: 0 | K13: 0 | L13: 0 | M13: 0 | N13: 87325 | O13: 0
A14: ค่าสาธารณูปโภค | B14: 993300 | C14: =SUM(D14:O14) -> 693596.85 | D14: 254825.98 | E14: 0 | F14: 10877.06 | G14: 0 | H14: 0 | I14: 0 | J14: 0 | K14: 0 | L14: 0 | M14: 0 | N14: 427893.81 | O14: 0
A15: ค่าครุภัณฑ์ (หมายเหตุ 1) | B15: 223500 | C15: =SUM(D15:O15) -> 190700 | D15: 112900 | E15: 0 | F15: 24800 | G15: 0 | H15: 0 | I15: 53000 | J15: 0 | K15: 0 | L15: 0 | M15: 0 | N15: 0 | O15: 0
A16: ค่าที่ดินและสิ่งก่อสร้าง (หมายเหตุ 2 ) | B16: 1155400 | C16: =SUM(D16:O16) -> 7603360 | D16: 673000 | E16: 0 | F16: 215000 | G16: 0 | H16: 0 | I16: =25500+5222800 -> 5248300 | J16: 0 | K16: 0 | L16: 0 | M16: 0 | N16: 1467060 | O16: 0
A17: รายจ่ายอื่น | B17: 25000 | C17: =SUM(D17:O17) -> 25000 | D17: 25000 | E17: 0 | F17: 0 | G17: 0 | H17: 0 | I17: 0 | J17: 0 | K17: 0 | L17: 0 | M17: 0 | N17: 0 | O17: 0
A18: เงินอุดหนุน | B18: 1194400 | C18: =SUM(D18:O18) -> 1106025 | D18: 29325 | E18: 0 | F18: 1073200 | G18: 0 | H18: 0 | I18: 0 | J18: 0 | K18: 3500 | L18: 0 | M18: 0 | N18: 0 | O18: 0
A19: รวยรายจ่าย | B19: =SUM(B8:B18) -> 25856200 | C19: =SUM(C8:C18) -> 29238982 | D19: =SUM(D8:D18) -> 8684481.6 | E19: =SUM(E8:E18) -> 22920 | F19: =SUM(F8:F18) -> 4852974.8 | G19: =SUM(G8:G18) -> 333104.66 | H19: =SUM(H8:H18) -> 0 | I19: =SUM(I8:I18) -> 6152838.8 | ... O19: =SUM(O8:O18) -> 6571031.5 | Q19: =SUM(D19:P19) -> 29238982
A20: รายรับ
A21: หมวดภาษีอากร | B21: 76200 | C21: 81910.02 | D21: 0 | E21: 0 | F21: 0 | G21: 0 | H21: 0 | I21: 0 | J21: 0 | K21: 0 | L21: 0 | M21: 0 | N21: 0 | O21: 0
A22: หมวดค่าธรรมเนียมค่าปรับและใบอนุญาต | B22: 49200 | C22: 42870 | D22: 0 | E22: 0 | F22: 0 | G22: 0 | H22: 0 | I22: 0 | J22: 0 | K22: 0 | L22: 0 | M22: 0 | N22: 0 | O22: 0
A23: หมวดรายได้ทรัพย์สิน | B23: 91200 | C23: 68165.82 | D23: 0 | E23: 0 | F23: 0 | G23: 0 | H23: 0 | I23: 0 | J23: 0 | K23: 0 | L23: 0 | M23: 0 | N23: 0 | O23: 0
A24: หมวดรายได้จากสาธารณูปโภคและการพาณิชย์ | B24: 436800 | C24: 469735 | D24: 0 | E24: 0 | F24: 0 | G24: 0 | H24: 0 | I24: 0 | J24: 0 | K24: 0 | L24: 0 | M24: 0 | N24: 0 | O24: 0
A25: หมวดรายได้เบ็ดเตล็ด | B25: 65300 | C25: 69102 | D25: 0 | E25: 0 | F25: 0 | G25: 0 | H25: 0 | I25: 0 | J25: 0 | K25: 0 | L25: 0 | M25: 0 | N25: 0 | O25: 0
A26: หมวดรายได้จากทุน | B26: 500 | C26: 11140 | D26: 0 | E26: 0 | F26: 0 | G26: 0 | H26: 0 | I26: 0 | J26: 0 | K26: 0 | L26: 0 | M26: 0 | N26: 0 | O26: 0
A27: หมวดภาษีจัดสรร | B27: 11809700 | C27: 13626485 | D27: 0 | E27: 0 | F27: 0 | G27: 0 | H27: 0 | I27: 0 | J27: 0 | K27: 0 | L27: 0 | M27: 0 | N27: 0 | O27: 0
A28: หมวดเงินอุดหนุนทั่วไป | B28: 13327300 | C28: 12851696 | D28: 0 | E28: 0 | F28: 0 | G28: 0 | H28: 0 | I28: 0 | J28: 0 | K28: 0 | L28: 0 | M28: 0 | N28: 0 | O28: 0
A29: หมวดเงินอุดหนุนระบุวัตถุประสงค์/เฉพาะกิจ | B29: 0 | C29: 1467060 | D29: 0 | E29: 0 | F29: 0 | G29: 0 | H29: 0 | I29: 0 | J29: 0 | K29: 0 | L29: 0 | M29: 0 | N29: 0 | O29: 0
A30: รวมรายรับ | B30: =SUM(B21:B29) -> 25856200 | C30: =SUM(C21:C29) -> 28688163 | D30: =SUM(D21:D29) -> 0 | E30: =SUM(E21:E29) -> 0 | F30: =SUM(F21:F29) -> 0 | G30: =SUM(G21:G29) -> 0 | H30: =SUM(H21:H29) -> 0 | I30: =SUM(I21:I29) -> 0 | ... O30: =SUM(O21:O29) -> 0
A31: รายรับสูงกว่าหรือ(ต่ำกว่า)รายจ่าย | C31: =+C30-C19 -> -550818.84 | Q31: =+C29 -> 1467060 | R31: ตรงกับรับจริง
Q32: =SUM(C21:C28) -> 27221103 | R32: รายได้ไม่รวมเงินอุดหนุนเฉพาะกิจ
Q33: =+C31 -> -550818.84
Q34: 4991213.7 | R34: รายรับ มากกว่า รายจ่าย (ไม่รวมเงินอุดหนุนเฉพาะกิจ)
A36: รายละเอียดประกอบงบแสดงผลการดำเนินงานจ่ายจากเงินรายรับและเงินสะสม | Q36: =+Q33-Q34 -> -5542032.5 | R36: ผลต่าง จ่ายจากเงินสะสม
A38: หมายเหตุ 1 ค่าครุภัณฑ์ | B38: จำนวนเงิน | C38: =+C15 -> 190700 | D38: บาท | E38: ประกอบด้วย | H38: หมายเหตุ 2 ค่าที่ดินและสิ่งก่อสร้าง จำนวนเงิน | K38: =+C16 -> 7603360 | L38: บาท | M38: ประกอบด้วย
B40: จ่ายจากเงินรายรับ | E40: =+C38 -> 190700 | F40: บาท | J40: จ่ายจากเงินรายรับ | M40: =+K38-M41 -> 2061327.5 | N40: บาท
B41: จ่ายจากเงินสะสม | E41: 0 | F41: บาท | J41: จ่ายจากเงินสะสม | M41: 5542032.5 | N41: บาท
